BEGIN:VCALENDAR
VERSION:2.0
PRODID:-//eventon.com NONSGML v1.0//EN
CALSCALE:GREGORIAN
METHOD:PUBLISH
BEGIN:VEVENT
UID:69eb05439187f
DTSTAMP:20260424T055307Z
DTSTART:20250506T173000Z
DTEND:20250506T215900Z
LOCATION:
SUMMARY:Online Yoga Nidra Cursus MEI 2025
DESCRIPTION:De RadiantPeace Methode &#8211; Nederlands DINSDAGAVOND VANAF 6
  MEI 2025 Ontdek de eeuwenoude kracht van mediatie en ademwerk voor jezelf 
 en krijg praktische tools om andere mensen te begeleiden. Herprogrammeer je
  brein en blijf relaxed en kalm zelfs in de meest uitdagende situaties DOE 
 MEE MET DeONLINE YOGA NIDRA TEACHER[..]\nhttps://www.innerpowerhouse.com/nl
 /events/online-yoga-nidra-cursus-mei-2025/
URL:https://www.innerpowerhouse.com/nl/events/online-yoga-nidra-cursus-mei-2025/
END:VEVENT
END:VCALENDAR