BEGIN:VCALENDAR
VERSION:2.0
PRODID:-//eventon.com NONSGML v1.0//EN
CALSCALE:GREGORIAN
METHOD:PUBLISH
BEGIN:VEVENT
UID:69e731c54a9a5
DTSTAMP:20260421T081357Z
DTSTART:20250404T073000Z
DTEND:20250405T150000Z
LOCATION:
SUMMARY:Tweedaagse Yin Yoga & Ademwerk training 15 uur in Laren: Yin Yoga en Ademwerk als ondersteuning bij Traumaverwerking\,  Stressregulering en Blokkades
DESCRIPTION:Tweedaagse Yin Yoga & Ademwerk training 15 uur in Laren: Yin Yo
 ga en Ademwerk als ondersteuning bij Traumaverwerking\,  Stressregulering e
 n Blokkades\nhttps://www.innerpowerhouse.com/nl/events/tweedaagse-training-
 in-nederland-yin-yoga-en-ademwerk-als-ondersteuning-bij-traumaverwerking-st
 ressregulering-en-blokkades/
URL:https://www.innerpowerhouse.com/nl/events/tweedaagse-training-in-nederland-yin-yoga-en-ademwerk-als-ondersteuning-bij-traumaverwerking-stressregulering-en-blokkades/
END:VEVENT
END:VCALENDAR