BEGIN:VCALENDAR
VERSION:2.0
PRODID:-//eventon.com NONSGML v1.0//EN
CALSCALE:GREGORIAN
METHOD:PUBLISH
BEGIN:VEVENT
UID:69eb7dbc72c88
DTSTAMP:20260424T142708Z
DTSTART:20260922T103000Z
DTEND:20260927T103000Z
LOCATION:Canuelo
SUMMARY:6-Day Yoga Retreat in Spain September 2026
DESCRIPTION:Soaking in the beauty of nature on this 6 Day Retreat in Andalu
 sia Relax\,  unwind and recharge your energy in the mountains of Spain &nbs
 p; &nbsp; &nbsp; &nbsp;\nhttps://www.innerpowerhouse.com/events/6-day-yoga-
 retreat-in-spain-september-2026/
URL:https://www.innerpowerhouse.com/events/6-day-yoga-retreat-in-spain-september-2026/
END:VEVENT
END:VCALENDAR