BEGIN:VCALENDAR
VERSION:2.0
PRODID:-//eventon.com NONSGML v1.0//EN
CALSCALE:GREGORIAN
METHOD:PUBLISH
BEGIN:VEVENT
UID:69ea025d12e9a
DTSTAMP:20260423T112829Z
DTSTART:20260530T100000Z
DTEND:20260530T100000Z
LOCATION:Canuelo
SUMMARY:Yin Yoga Teacher Training 50 Hours â€“ 7 Days in MÃ¡laga\,  Spain
DESCRIPTION:50-Hour Yin Yoga Teacher Training â€“ 7 Days in MÃ¡laga\,  Spai
 n Yoga AllianceÂ® Certified Yin Yoga Teacher Training (50 Hours Continuing 
 Education) Would you like to deepen your Yin Yoga practice and understandin
 g? Our Yin Yoga Teacher Training in MÃ¡laga is a truly inspiring journey â€
 ” a combination of ancient[..]\nhttps://www.innerpowerhouse.com/events/50-h
 our-yin-yoga-teacher-training-7-days-in-malaga-spain/
URL:https://www.innerpowerhouse.com/events/50-hour-yin-yoga-teacher-training-7-days-in-malaga-spain/
END:VEVENT
END:VCALENDAR